BEGIN:VCALENDAR
VERSION:2.0
PRODID:-//Acadia Repertory Theatre - ECPv6.15.11//NONSGML v1.0//EN
CALSCALE:GREGORIAN
METHOD:PUBLISH
X-ORIGINAL-URL:https://acadiarep.com
X-WR-CALDESC:Events for Acadia Repertory Theatre
REFRESH-INTERVAL;VALUE=DURATION:PT1H
X-Robots-Tag:noindex
X-PUBLISHED-TTL:PT1H
BEGIN:VTIMEZONE
TZID:America/New_York
BEGIN:DAYLIGHT
TZOFFSETFROM:-0500
TZOFFSETTO:-0400
TZNAME:EDT
DTSTART:20220313T070000
END:DAYLIGHT
BEGIN:STANDARD
TZOFFSETFROM:-0400
TZOFFSETTO:-0500
TZNAME:EST
DTSTART:20221106T060000
END:STANDARD
BEGIN:DAYLIGHT
TZOFFSETFROM:-0500
TZOFFSETTO:-0400
TZNAME:EDT
DTSTART:20230312T070000
END:DAYLIGHT
BEGIN:STANDARD
TZOFFSETFROM:-0400
TZOFFSETTO:-0500
TZNAME:EST
DTSTART:20231105T060000
END:STANDARD
BEGIN:DAYLIGHT
TZOFFSETFROM:-0500
TZOFFSETTO:-0400
TZNAME:EDT
DTSTART:20240310T070000
END:DAYLIGHT
BEGIN:STANDARD
TZOFFSETFROM:-0400
TZOFFSETTO:-0500
TZNAME:EST
DTSTART:20241103T060000
END:STANDARD
END:VTIMEZONE
BEGIN:VEVENT
DTSTART;TZID=America/New_York:20230705T103000
DTEND;TZID=America/New_York:20230809T223000
DTSTAMP:20260421T153745
CREATED:20230707T184330Z
LAST-MODIFIED:20230707T184330Z
UID:2871-1688553000-1691620200@acadiarep.com
SUMMARY:BUBBLETIME with VALERIE!
DESCRIPTION:
URL:https://acadiarep.com/event/bubbletime-with-valerie/
ATTACH;FMTTYPE=image/jpeg:https://acadiarep.com/wp-content/uploads/2023/06/bubbletime-Cropped.jpg
END:VEVENT
BEGIN:VEVENT
DTSTART;VALUE=DATE:20230725
DTEND;VALUE=DATE:20230812
DTSTAMP:20260421T153745
CREATED:20230527T171951Z
LAST-MODIFIED:20230604T135027Z
UID:2749-1690243200-1691798399@acadiarep.com
SUMMARY:LOVE AND BASEBALL
DESCRIPTION:
URL:https://acadiarep.com/event/love-and-baseball/
CATEGORIES:2023 Summer Season
ATTACH;FMTTYPE=image/png:https://acadiarep.com/wp-content/uploads/2023/05/baseball-square.png
END:VEVENT
BEGIN:VEVENT
DTSTART;VALUE=DATE:20230815
DTEND;VALUE=DATE:20230904
DTSTAMP:20260421T153745
CREATED:20230527T173034Z
LAST-MODIFIED:20230810T232457Z
UID:2752-1692057600-1693785599@acadiarep.com
SUMMARY:Agatha Christie's THE MOUSETRAP
DESCRIPTION:
URL:https://acadiarep.com/event/agatha-christies-the-mousetrap/
CATEGORIES:2023 Summer Season
END:VEVENT
END:VCALENDAR