BEGIN:VCALENDAR
VERSION:2.0
PRODID:-//Acadia Repertory Theatre - ECPv6.15.11//NONSGML v1.0//EN
CALSCALE:GREGORIAN
METHOD:PUBLISH
X-WR-CALNAME:Acadia Repertory Theatre
X-ORIGINAL-URL:https://acadiarep.com
X-WR-CALDESC:Events for Acadia Repertory Theatre
REFRESH-INTERVAL;VALUE=DURATION:PT1H
X-Robots-Tag:noindex
X-PUBLISHED-TTL:PT1H
BEGIN:VTIMEZONE
TZID:America/New_York
BEGIN:DAYLIGHT
TZOFFSETFROM:-0500
TZOFFSETTO:-0400
TZNAME:EDT
DTSTART:20200308T070000
END:DAYLIGHT
BEGIN:STANDARD
TZOFFSETFROM:-0400
TZOFFSETTO:-0500
TZNAME:EST
DTSTART:20201101T060000
END:STANDARD
BEGIN:DAYLIGHT
TZOFFSETFROM:-0500
TZOFFSETTO:-0400
TZNAME:EDT
DTSTART:20210314T070000
END:DAYLIGHT
BEGIN:STANDARD
TZOFFSETFROM:-0400
TZOFFSETTO:-0500
TZNAME:EST
DTSTART:20211107T060000
END:STANDARD
BEGIN:DAYLIGHT
TZOFFSETFROM:-0500
TZOFFSETTO:-0400
TZNAME:EDT
DTSTART:20220313T070000
END:DAYLIGHT
BEGIN:STANDARD
TZOFFSETFROM:-0400
TZOFFSETTO:-0500
TZNAME:EST
DTSTART:20221106T060000
END:STANDARD
END:VTIMEZONE
BEGIN:VEVENT
DTSTART;VALUE=DATE:20211209
DTEND;VALUE=DATE:20211220
DTSTAMP:20260421T201037
CREATED:20211202T002131Z
LAST-MODIFIED:20211202T002155Z
UID:2576-1639008000-1639958399@acadiarep.com
SUMMARY:FULLY COMMITTED
DESCRIPTION:This devastatingly funny one act follows a day in the life of Sam Callahan\, an out-of-work actor who mans the red-hot reservation line at Manhattan’s number-one restaurant. Coercion\, threats\, bribes\, histrionics—a cast of desperate callers will stop at nothing in their zeal to land a prime reservation\, or the right table. Amid the barrage\, Sam’s got her own needs to contend with—her recently widowed dad wants her home for Christmas\, and she’s up for a choice part at Lincoln Center. While juggling scheming socialites\, name-dropping wannabes\, fickle celebrities and egomaniacal bosses\, can she manage to look out for herself?
URL:https://acadiarep.com/event/fully-committed-2/
ATTACH;FMTTYPE=image/png:https://acadiarep.com/wp-content/uploads/2021/07/committed-sq.png
END:VEVENT
END:VCALENDAR