BEGIN:VCALENDAR
VERSION:2.0
PRODID:-//Acadia Repertory Theatre - ECPv6.15.11//NONSGML v1.0//EN
CALSCALE:GREGORIAN
METHOD:PUBLISH
X-ORIGINAL-URL:https://acadiarep.com
X-WR-CALDESC:Events for Acadia Repertory Theatre
REFRESH-INTERVAL;VALUE=DURATION:PT1H
X-Robots-Tag:noindex
X-PUBLISHED-TTL:PT1H
BEGIN:VTIMEZONE
TZID:UTC
BEGIN:STANDARD
TZOFFSETFROM:+0000
TZOFFSETTO:+0000
TZNAME:UTC
DTSTART:20200101T000000
END:STANDARD
END:VTIMEZONE
BEGIN:VEVENT
DTSTART;VALUE=DATE:20210727
DTEND;VALUE=DATE:20210816
DTSTAMP:20260422T022422
CREATED:20190826T112031Z
LAST-MODIFIED:20210803T184546Z
UID:1461-1627344000-1629071999@acadiarep.com
SUMMARY:FULLY COMMITTED
DESCRIPTION:This devastatingly funny one act follows a day in the life of Sam Callahan\, an out-of-work actor who mans the red-hot reservation line at Manhattan’s number-one restaurant. Coercion\, threats\, bribes\, histrionics—a cast of desperate callers will stop at nothing in their zeal to land a prime reservation\, or the right table. Amid the barrage\, Sam’s got her own needs to contend with—her recently widowed dad wants her home for Christmas\, and she’s up for a choice part at Lincoln Center. While juggling scheming socialites\, name-dropping wannabes\, fickle celebrities and egomaniacal bosses\, can she manage to look out for herself?
URL:https://acadiarep.com/event/fully-committed/
CATEGORIES:2021 Summer Season
ATTACH;FMTTYPE=image/png:https://acadiarep.com/wp-content/uploads/2021/07/committed-sq.png
END:VEVENT
BEGIN:VEVENT
DTSTART;VALUE=DATE:20210817
DTEND;VALUE=DATE:20210906
DTSTAMP:20260422T022422
CREATED:20210525T215842Z
LAST-MODIFIED:20210825T173028Z
UID:1876-1629158400-1630886399@acadiarep.com
SUMMARY:DEAR MURDERER
DESCRIPTION:When successful business man Lee Warren suspects his wife is having an affair\, he sets out find her lover\, kill him\, and make it look like suicide. Complications set in\, when he finds out she has another lover as well\, so Lee has to change his plans.
URL:https://acadiarep.com/event/dear-murderer/
CATEGORIES:2021 Summer Season
ATTACH;FMTTYPE=image/jpeg:https://acadiarep.com/wp-content/uploads/2021/07/DearMurderer1Elips-Cropped.jpg
END:VEVENT
END:VCALENDAR