BEGIN:VCALENDAR
VERSION:2.0
PRODID:-//Acadia Repertory Theatre - ECPv6.15.11//NONSGML v1.0//EN
CALSCALE:GREGORIAN
METHOD:PUBLISH
X-WR-CALNAME:Acadia Repertory Theatre
X-ORIGINAL-URL:https://acadiarep.com
X-WR-CALDESC:Events for Acadia Repertory Theatre
REFRESH-INTERVAL;VALUE=DURATION:PT1H
X-Robots-Tag:noindex
X-PUBLISHED-TTL:PT1H
BEGIN:VTIMEZONE
TZID:UTC
BEGIN:STANDARD
TZOFFSETFROM:+0000
TZOFFSETTO:+0000
TZNAME:UTC
DTSTART:20200101T000000
END:STANDARD
END:VTIMEZONE
BEGIN:VEVENT
DTSTART;VALUE=DATE:20210706
DTEND;VALUE=DATE:20210726
DTSTAMP:20260422T053014
CREATED:20190604T071226Z
LAST-MODIFIED:20210719T180218Z
UID:1033-1625529600-1627257599@acadiarep.com
SUMMARY:THE LIFESPAN OF A FACT
DESCRIPTION:Jim Fingal is a fresh-out-of-Harvard fact checker for a prominent but sinking New York magazine. John D’Agata is a talented writer with a transcendent essay about the suicide of a teenage boy—an essay that could save the magazine from collapse. When Jim is assigned to fact check D’Agata’s essay\, the two come head to head in a comedic yet gripping battle over facts versus truth.
URL:https://acadiarep.com/event/the-lifespan-of-a-fact/
CATEGORIES:2021 Summer Season
ATTACH;FMTTYPE=image/png:https://acadiarep.com/wp-content/uploads/2021/07/lifespan-sq.png
END:VEVENT
END:VCALENDAR